BEGIN:VCALENDAR
VERSION:2.0
PRODID:-//Doppelpunkt//Events//DE
CALSCALE:GREGORIAN
METHOD:PUBLISH
BEGIN:VEVENT
UID:event-3110@www.doppelpunkt.de
DTSTAMP:20260425T123930
DTSTART:20260110T170000
DTEND:20260110T170000
SUMMARY:Willi Forst-Werkschau: Das Lied ist aus
LOCATION:Kommkino\, Königstr. 93\, 90403 Nürnberg
STATUS:CONFIRMED
END:VEVENT
END:VCALENDAR