BEGIN:VCALENDAR
VERSION:2.0
PRODID:-//Doppelpunkt//Events//DE
CALSCALE:GREGORIAN
METHOD:PUBLISH
BEGIN:VEVENT
UID:event-3108@www.doppelpunkt.de
DTSTAMP:20260421T104059
DTSTART:20260109T173000
DTEND:20260109T173000
SUMMARY:Willi Forst-Werkschau: Frauen sind keine Engel
LOCATION:Kommkino\, Königstr. 93\, 90403 Nürnberg
STATUS:CONFIRMED
END:VEVENT
END:VCALENDAR