BEGIN:VCALENDAR
VERSION:2.0
PRODID:-//Doppelpunkt//Events//DE
CALSCALE:GREGORIAN
METHOD:PUBLISH
BEGIN:VEVENT
UID:event-3103@www.doppelpunkt.de
DTSTAMP:20260421T050647
DTSTART:20260106T170000
DTEND:20260106T170000
SUMMARY:Around the World in 14 Films: Rómeria
LOCATION:Filmhaus Nürnberg\, Königstr. 93\, 90403 Nürnberg
STATUS:CONFIRMED
END:VEVENT
END:VCALENDAR