BEGIN:VCALENDAR
VERSION:2.0
PRODID:-//Doppelpunkt//Events//DE
CALSCALE:GREGORIAN
METHOD:PUBLISH
BEGIN:VEVENT
UID:event-3098@www.doppelpunkt.de
DTSTAMP:20260420T234846
DTSTART:20260103T190000
DTEND:20260103T190000
SUMMARY:Around the World in 14 Films: Ein einfacher Unfall
LOCATION:Kommkino\, Königstr. 93\, 90403 Nürnberg
STATUS:CONFIRMED
END:VEVENT
END:VCALENDAR