BEGIN:VCALENDAR
VERSION:2.0
PRODID:-//Doppelpunkt//Events//DE
CALSCALE:GREGORIAN
METHOD:PUBLISH
BEGIN:VEVENT
UID:event-3095@www.doppelpunkt.de
DTSTAMP:20260420T183201
DTSTART:20251229T153000
DTEND:20251229T153000
SUMMARY:Yi Yi (jap. OmU)
LOCATION:Kommkino\, Königstr. 93\, 90403 Nürnberg
STATUS:CONFIRMED
END:VEVENT
END:VCALENDAR