BEGIN:VCALENDAR
VERSION:2.0
PRODID:-//Doppelpunkt//Events//DE
CALSCALE:GREGORIAN
METHOD:PUBLISH
BEGIN:VEVENT
UID:event-3092@www.doppelpunkt.de
DTSTAMP:20260421T183607
DTSTART:20251228T110000
DTEND:20251228T110000
SUMMARY:Ruth Orkin: Little Fugitive (engl. OmU)
LOCATION:Filmhaus Nürnberg\, Königstr. 93\, 90403 Nürnberg
STATUS:CONFIRMED
END:VEVENT
END:VCALENDAR