BEGIN:VCALENDAR
VERSION:2.0
PRODID:-//Doppelpunkt//Events//DE
CALSCALE:GREGORIAN
METHOD:PUBLISH
BEGIN:VEVENT
UID:event-3091@www.doppelpunkt.de
DTSTAMP:20260421T050911
DTSTART:20251228T200000
DTEND:20251228T200000
SUMMARY:Sorry\, Baby (OmU)
LOCATION:Kommkino\, Königstr. 93\, 90403 Nürnberg
STATUS:CONFIRMED
END:VEVENT
END:VCALENDAR