BEGIN:VCALENDAR
VERSION:2.0
PRODID:-//Doppelpunkt//Events//DE
CALSCALE:GREGORIAN
METHOD:PUBLISH
BEGIN:VEVENT
UID:event-3090@www.doppelpunkt.de
DTSTAMP:20260420T182953
DTSTART:20251225T201500
DTEND:20260103T235900
SUMMARY:Sorry\, Baby (OmU)
LOCATION:Filmhaus Nürnberg\, Königstr. 93\, 90403 Nürnberg
STATUS:CONFIRMED
END:VEVENT
END:VCALENDAR