BEGIN:VCALENDAR
VERSION:2.0
PRODID:-//Doppelpunkt//Events//DE
CALSCALE:GREGORIAN
METHOD:PUBLISH
BEGIN:VEVENT
UID:event-3083@www.doppelpunkt.de
DTSTAMP:20260425T122825
DTSTART:20251221T150000
DTEND:20251221T150000
SUMMARY:Short Weekend: Kurzfilme ab 6 J.
LOCATION:Kommkino\, Königstr. 93\, 90403 Nürnberg
STATUS:CONFIRMED
END:VEVENT
END:VCALENDAR