BEGIN:VCALENDAR
VERSION:2.0
PRODID:-//Doppelpunkt//Events//DE
CALSCALE:GREGORIAN
METHOD:PUBLISH
BEGIN:VEVENT
UID:event-3074@www.doppelpunkt.de
DTSTAMP:20260425T123804
DTSTART:20251214T170000
DTEND:20251214T170000
SUMMARY:Kinema Kurabu: Typhoon Club u. The Colors Within (jap. OmU)
LOCATION:Kommkino\, Königstr. 93\, 90403 Nürnberg
STATUS:CONFIRMED
END:VEVENT
END:VCALENDAR