BEGIN:VCALENDAR
VERSION:2.0
PRODID:-//Doppelpunkt//Events//DE
CALSCALE:GREGORIAN
METHOD:PUBLISH
BEGIN:VEVENT
UID:event-3073@www.doppelpunkt.de
DTSTAMP:20260419T184609
DTSTART:20251213T211500
DTEND:20251213T211500
SUMMARY:Die Glücksritter
LOCATION:Kommkino\, Königstr. 93\, 90403 Nürnberg
STATUS:CONFIRMED
END:VEVENT
END:VCALENDAR