BEGIN:VCALENDAR
VERSION:2.0
PRODID:-//Doppelpunkt//Events//DE
CALSCALE:GREGORIAN
METHOD:PUBLISH
BEGIN:VEVENT
UID:event-3071@www.doppelpunkt.de
DTSTAMP:20260425T122814
DTSTART:20251212T211500
DTEND:20251212T211500
SUMMARY:Filmament-Sondersichtung: Invisible People (Doku über den jap. Butoh-Tanz)\, anschl. Q&A mit Alisa Berger
LOCATION:Kommkino\, Königstr. 93\, 90403 Nürnberg
STATUS:CONFIRMED
END:VEVENT
END:VCALENDAR