BEGIN:VCALENDAR
VERSION:2.0
PRODID:-//Doppelpunkt//Events//DE
CALSCALE:GREGORIAN
METHOD:PUBLISH
BEGIN:VEVENT
UID:event-3070@www.doppelpunkt.de
DTSTAMP:20260420T183328
DTSTART:20251231T170000
DTEND:20251231T170000
SUMMARY:E.T.A. Hoffmann: Nussknacker und die vier Reiche
LOCATION:Filmhaus Nürnberg\, Königstr. 93\, 90403 Nürnberg
STATUS:CONFIRMED
END:VEVENT
END:VCALENDAR