BEGIN:VCALENDAR
VERSION:2.0
PRODID:-//Doppelpunkt//Events//DE
CALSCALE:GREGORIAN
METHOD:PUBLISH
BEGIN:VEVENT
UID:event-3068@www.doppelpunkt.de
DTSTAMP:20260425T122814
DTSTART:20251228T180000
DTEND:20251228T180000
SUMMARY:E.T.A. Hoffmann: Die Puppe (Stummfilm mit Live-Musik)
LOCATION:Kommkino\, Königstr. 93\, 90403 Nürnberg
STATUS:CONFIRMED
END:VEVENT
END:VCALENDAR