BEGIN:VCALENDAR
VERSION:2.0
PRODID:-//Doppelpunkt//Events//DE
CALSCALE:GREGORIAN
METHOD:PUBLISH
BEGIN:VEVENT
UID:event-3067@www.doppelpunkt.de
DTSTAMP:20260425T122907
DTSTART:20251224T170000
DTEND:20251224T170000
SUMMARY:E.T.A. Hoffmann: Nutcracker Fantasy
LOCATION:Kommkino\, Königstr. 93\, 90403 Nürnberg
STATUS:CONFIRMED
END:VEVENT
END:VCALENDAR