BEGIN:VCALENDAR
VERSION:2.0
PRODID:-//Doppelpunkt//Events//DE
CALSCALE:GREGORIAN
METHOD:PUBLISH
BEGIN:VEVENT
UID:event-3062@www.doppelpunkt.de
DTSTAMP:20260425T122906
DTSTART:20251212T190000
DTEND:20251212T190000
SUMMARY:E.T.A. Hoffmann: Cardillac
LOCATION:Kommkino\, Königstr. 93\, 90403 Nürnberg
STATUS:CONFIRMED
END:VEVENT
END:VCALENDAR