BEGIN:VCALENDAR
VERSION:2.0
PRODID:-//Doppelpunkt//Events//DE
CALSCALE:GREGORIAN
METHOD:PUBLISH
BEGIN:VEVENT
UID:event-3061@www.doppelpunkt.de
DTSTAMP:20260425T121952
DTSTART:20251211T183000
DTEND:20251211T183000
SUMMARY:E.T.A. Hoffmann: Hoffmanns Erzählungen
LOCATION:Kommkino\, Königstr. 93\, 90403 Nürnberg
STATUS:CONFIRMED
END:VEVENT
END:VCALENDAR