BEGIN:VCALENDAR
VERSION:2.0
PRODID:-//Doppelpunkt//Events//DE
CALSCALE:GREGORIAN
METHOD:PUBLISH
BEGIN:VEVENT
UID:event-3060@www.doppelpunkt.de
DTSTAMP:20260420T202438
DTSTART:20260101T150000
DTEND:20260106T235900
SUMMARY:Kommissar Gordon & Buffy\, ab 5 J.
LOCATION:Filmhaus Nürnberg\, Königstr. 93\, 90403 Nürnberg
STATUS:CONFIRMED
END:VEVENT
END:VCALENDAR