BEGIN:VCALENDAR
VERSION:2.0
PRODID:-//Doppelpunkt//Events//DE
CALSCALE:GREGORIAN
METHOD:PUBLISH
BEGIN:VEVENT
UID:event-306@www.doppelpunkt.de
DTSTAMP:20260421T111431
DTSTART:20251128T200000
DTEND:20251128T200000
SUMMARY:"Die Daggel Disco"\, 60er-80er Rock/Pop
LOCATION:Kofferfabrik\, Lange Str. 81\, 90762 Fürth
STATUS:CONFIRMED
END:VEVENT
END:VCALENDAR