BEGIN:VCALENDAR
VERSION:2.0
PRODID:-//Doppelpunkt//Events//DE
CALSCALE:GREGORIAN
METHOD:PUBLISH
BEGIN:VEVENT
UID:event-3054@www.doppelpunkt.de
DTSTAMP:20260425T121951
DTSTART:20251209T211500
DTEND:20251209T211500
SUMMARY:Tuesday Trash Night: Santa Clause
LOCATION:Kommkino\, Königstr. 93\, 90403 Nürnberg
STATUS:CONFIRMED
END:VEVENT
END:VCALENDAR