BEGIN:VCALENDAR
VERSION:2.0
PRODID:-//Doppelpunkt//Events//DE
CALSCALE:GREGORIAN
METHOD:PUBLISH
BEGIN:VEVENT
UID:event-3050@www.doppelpunkt.de
DTSTAMP:20260425T124909
DTSTART:20251208T190000
DTEND:20251208T190000
SUMMARY:Francesco Rosi-Werkschau: Augenblick der Wahrheit
LOCATION:Kommkino\, Königstr. 93\, 90403 Nürnberg
STATUS:CONFIRMED
END:VEVENT
END:VCALENDAR