BEGIN:VCALENDAR
VERSION:2.0
PRODID:-//Doppelpunkt//Events//DE
CALSCALE:GREGORIAN
METHOD:PUBLISH
BEGIN:VEVENT
UID:event-3044@www.doppelpunkt.de
DTSTAMP:20260419T164409
DTSTART:20251202T211500
DTEND:20251202T211500
SUMMARY:Im Osten was Neues
LOCATION:Kommkino\, Königstr. 93\, 90403 Nürnberg
STATUS:CONFIRMED
END:VEVENT
END:VCALENDAR