BEGIN:VCALENDAR
VERSION:2.0
PRODID:-//Doppelpunkt//Events//DE
CALSCALE:GREGORIAN
METHOD:PUBLISH
BEGIN:VEVENT
UID:event-3043@www.doppelpunkt.de
DTSTAMP:20260425T122819
DTSTART:20251207T173000
DTEND:20251207T173000
SUMMARY:While the Green Grass Grows (OmU)
LOCATION:Kommkino\, Königstr. 93\, 90403 Nürnberg
STATUS:CONFIRMED
END:VEVENT
END:VCALENDAR