BEGIN:VCALENDAR
VERSION:2.0
PRODID:-//Doppelpunkt//Events//DE
CALSCALE:GREGORIAN
METHOD:PUBLISH
BEGIN:VEVENT
UID:event-3033@www.doppelpunkt.de
DTSTAMP:20260421T111545
DTSTART:20260205T193000
DTEND:20260205T193000
SUMMARY:"Klezmertanz": Tanzabend mit Gitta Ott und der Gruppe Passage
LOCATION:Villa Leon\, Philipp-Körber-Weg 1\, 90439 Nürnberg
STATUS:CONFIRMED
END:VEVENT
END:VCALENDAR