BEGIN:VCALENDAR
VERSION:2.0
PRODID:-//Doppelpunkt//Events//DE
CALSCALE:GREGORIAN
METHOD:PUBLISH
BEGIN:VEVENT
UID:event-3031@www.doppelpunkt.de
DTSTAMP:20260425T141955
DTSTART:20260131T200000
DTEND:20260131T200000
SUMMARY:„49. Lateinamerikatage“: Skampida (Folklore/Reggae/Punk/Hip-Hop)\, Support: Las Carettas
LOCATION:Villa Leon\, Philipp-Körber-Weg 1\, 90439 Nürnberg
STATUS:CONFIRMED
END:VEVENT
END:VCALENDAR