BEGIN:VCALENDAR
VERSION:2.0
PRODID:-//Doppelpunkt//Events//DE
CALSCALE:GREGORIAN
METHOD:PUBLISH
BEGIN:VEVENT
UID:event-3030@www.doppelpunkt.de
DTSTAMP:20260425T141944
DTSTART:20260124T200000
DTEND:20260124T200000
SUMMARY:„49. Lateinamerikatage“: TAXXI Tango XXL (Urbaner Tango)
LOCATION:Villa Leon\, Philipp-Körber-Weg 1\, 90439 Nürnberg
STATUS:CONFIRMED
END:VEVENT
END:VCALENDAR