BEGIN:VCALENDAR
VERSION:2.0
PRODID:-//Doppelpunkt//Events//DE
CALSCALE:GREGORIAN
METHOD:PUBLISH
BEGIN:VEVENT
UID:event-3029@www.doppelpunkt.de
DTSTAMP:20260425T135307
DTSTART:20260118T110000
DTEND:20260118T110000
SUMMARY:„111 Tage\, die die Welt bewegten“\, Vortrag von Ralf Nestmeyer
LOCATION:Villa Leon\, Philipp-Körber-Weg 1\, 90439 Nürnberg
STATUS:CONFIRMED
END:VEVENT
END:VCALENDAR