BEGIN:VCALENDAR
VERSION:2.0
PRODID:-//Doppelpunkt//Events//DE
CALSCALE:GREGORIAN
METHOD:PUBLISH
BEGIN:VEVENT
UID:event-3023@www.doppelpunkt.de
DTSTAMP:20260421T105736
DTSTART:20251203T190000
DTEND:20251203T190000
SUMMARY:Open Air-Konzert im Hof: Norbert Nagel u. MFL-Bigband (Christmas-Swing)
LOCATION:Pellerhaus\, Egidienplatz 23\, 90403 Nürnberg
STATUS:CONFIRMED
END:VEVENT
END:VCALENDAR