BEGIN:VCALENDAR
VERSION:2.0
PRODID:-//Doppelpunkt//Events//DE
CALSCALE:GREGORIAN
METHOD:PUBLISH
BEGIN:VEVENT
UID:event-3022@www.doppelpunkt.de
DTSTAMP:20260425T141850
DTSTART:20260115T193000
DTEND:20260115T193000
SUMMARY:OTTiS Improtheater: "Mord in der Villa"
LOCATION:Villa Leon\, Philipp-Körber-Weg 1\, 90439 Nürnberg
STATUS:CONFIRMED
END:VEVENT
END:VCALENDAR