BEGIN:VCALENDAR
VERSION:2.0
PRODID:-//Doppelpunkt//Events//DE
CALSCALE:GREGORIAN
METHOD:PUBLISH
BEGIN:VEVENT
UID:event-3019@www.doppelpunkt.de
DTSTAMP:20260425T141914
DTSTART:20260212T180000
DTEND:20260212T180000
SUMMARY:Buchvorstellung mit Historiker Götz Aly: "Wie konnte das geschehen? Deutschland 1933 bis 1945"
LOCATION:Dokumentationszentrum Reichsparteitagsgelände\, Bayernstraße 110\, 90317 Nürnberg
STATUS:CONFIRMED
END:VEVENT
END:VCALENDAR