BEGIN:VCALENDAR
VERSION:2.0
PRODID:-//Doppelpunkt//Events//DE
CALSCALE:GREGORIAN
METHOD:PUBLISH
BEGIN:VEVENT
UID:event-3018@www.doppelpunkt.de
DTSTAMP:20260425T135520
DTSTART:20260129T180000
DTEND:20260129T180000
SUMMARY:Zeitzeugengespräch: "In der Gegenwart mit der Erinnerung leben. Ernst Grube\, Überlebender der Shoah\, über seine Verfolgung"
LOCATION:Dokumentationszentrum Reichsparteitagsgelände\, Bayernstraße 110\, 90317 Nürnberg
STATUS:CONFIRMED
END:VEVENT
END:VCALENDAR