BEGIN:VCALENDAR
VERSION:2.0
PRODID:-//Doppelpunkt//Events//DE
CALSCALE:GREGORIAN
METHOD:PUBLISH
BEGIN:VEVENT
UID:event-3013@www.doppelpunkt.de
DTSTAMP:20260425T141647
DTSTART:20260115T183000
DTEND:20260115T183000
SUMMARY:Film: "Albrecht Dürer. Der Himmel über dem Hasen"
LOCATION:Albrecht-Dürer-Haus\, Albrecht-Dürer-Str. 39\, 90403 Nürnberg
STATUS:CONFIRMED
END:VEVENT
END:VCALENDAR