BEGIN:VCALENDAR
VERSION:2.0
PRODID:-//Doppelpunkt//Events//DE
CALSCALE:GREGORIAN
METHOD:PUBLISH
BEGIN:VEVENT
UID:event-3011@www.doppelpunkt.de
DTSTAMP:20260421T105347
DTSTART:20260109T160000
DTEND:20260109T160000
SUMMARY:Kuratorinnenführung zu "Original Dürer! Dürer macht Geld"
LOCATION:Albrecht-Dürer-Haus\, Albrecht-Dürer-Str. 39\, 90403 Nürnberg
STATUS:CONFIRMED
END:VEVENT
END:VCALENDAR