BEGIN:VCALENDAR
VERSION:2.0
PRODID:-//Doppelpunkt//Events//DE
CALSCALE:GREGORIAN
METHOD:PUBLISH
BEGIN:VEVENT
UID:event-3010@www.doppelpunkt.de
DTSTAMP:20260425T135609
DTSTART:20260118T160000
DTEND:20260118T160000
SUMMARY:Rundgang zur Ausstellung: "Auf Augenhöhe - Kunst im Dialog mit den Menschenrechten"
LOCATION:Schloss Almoshof\, Almoshofer Hauptstr. 49-53\, 90427 Nürnberg
STATUS:CONFIRMED
END:VEVENT
END:VCALENDAR