BEGIN:VCALENDAR
VERSION:2.0
PRODID:-//Doppelpunkt//Events//DE
CALSCALE:GREGORIAN
METHOD:PUBLISH
BEGIN:VEVENT
UID:event-3005@www.doppelpunkt.de
DTSTAMP:20260421T111733
DTSTART:20251206T130000
DTEND:20251206T130000
SUMMARY:Stimmungsvoller Weihnachtsmarkt
LOCATION:Schloss Almoshof\, Almoshofer Hauptstr. 49-53\, 90427 Nürnberg
STATUS:CONFIRMED
END:VEVENT
END:VCALENDAR