BEGIN:VCALENDAR
VERSION:2.0
PRODID:-//Doppelpunkt//Events//DE
CALSCALE:GREGORIAN
METHOD:PUBLISH
BEGIN:VEVENT
UID:event-3000@www.doppelpunkt.de
DTSTAMP:20260421T105507
DTSTART:20251206T120000
DTEND:20251206T120000
SUMMARY:Nerd-Markt Nr. 4
LOCATION:Haus des Spiels im Pellerhaus\, Egidienplatz 23\, 90403 Nürnberg
STATUS:CONFIRMED
END:VEVENT
END:VCALENDAR