BEGIN:VCALENDAR
VERSION:2.0
PRODID:-//Doppelpunkt//Events//DE
CALSCALE:GREGORIAN
METHOD:PUBLISH
BEGIN:VEVENT
UID:event-2996@www.doppelpunkt.de
DTSTAMP:20260421T111427
DTSTART:20260207T210000
DTEND:20260207T210000
SUMMARY:"DröhnBoot-Revival"-Party\, mit DJs Fränky\, Nietsch und Frugi
LOCATION:KulturKellerei im Künstlerhaus\, Königstr. 93\, 90403 Nürnberg
STATUS:CONFIRMED
END:VEVENT
END:VCALENDAR