BEGIN:VCALENDAR
VERSION:2.0
PRODID:-//Doppelpunkt//Events//DE
CALSCALE:GREGORIAN
METHOD:PUBLISH
BEGIN:VEVENT
UID:event-2993@www.doppelpunkt.de
DTSTAMP:20260421T111559
DTSTART:20251231T220000
DTEND:20251231T220000
SUMMARY:"Silvesterfeierei" - legendäre Silvesterparty
LOCATION:KulturKellerei im Künstlerhaus\, Königstr. 93\, 90403 Nürnberg
STATUS:CONFIRMED
END:VEVENT
END:VCALENDAR