BEGIN:VCALENDAR
VERSION:2.0
PRODID:-//Doppelpunkt//Events//DE
CALSCALE:GREGORIAN
METHOD:PUBLISH
BEGIN:VEVENT
UID:event-2992@www.doppelpunkt.de
DTSTAMP:20260421T111423
DTSTART:20251213T220000
DTEND:20251213T220000
SUMMARY:"Flintas* on Decks"-Party
LOCATION:KulturKellerei im Künstlerhaus\, Königstr. 93\, 90403 Nürnberg
STATUS:CONFIRMED
END:VEVENT
END:VCALENDAR