BEGIN:VCALENDAR
VERSION:2.0
PRODID:-//Doppelpunkt//Events//DE
CALSCALE:GREGORIAN
METHOD:PUBLISH
BEGIN:VEVENT
UID:event-2988@www.doppelpunkt.de
DTSTAMP:20260421T050738
DTSTART:20260106T200000
DTEND:20260106T200000
SUMMARY:6aufKraut: "Spirale Mortale"\, Impro-Theater
LOCATION:Kofferfabrik\, Lange Str. 81\, 90762 Fürth
STATUS:CONFIRMED
END:VEVENT
END:VCALENDAR