BEGIN:VCALENDAR
VERSION:2.0
PRODID:-//Doppelpunkt//Events//DE
CALSCALE:GREGORIAN
METHOD:PUBLISH
BEGIN:VEVENT
UID:event-2987@www.doppelpunkt.de
DTSTAMP:20260419T184122
DTSTART:20251206T200000
DTEND:20251206T200000
SUMMARY:Impro-Theater-Match mit 6aufKraut u. Chamäleon
LOCATION:Kofferfabrik\, Lange Str. 81\, 90762 Fürth
STATUS:CONFIRMED
END:VEVENT
END:VCALENDAR