BEGIN:VCALENDAR
VERSION:2.0
PRODID:-//Doppelpunkt//Events//DE
CALSCALE:GREGORIAN
METHOD:PUBLISH
BEGIN:VEVENT
UID:event-2986@www.doppelpunkt.de
DTSTAMP:20260421T105542
DTSTART:20260130T130000
DTEND:20260201T235900
SUMMARY:Nürnberger Spiele-Fest: Spieletheke\, Workshops\, Flohmarkt uvm.
LOCATION:Eckstein - Haus d. evang.-luth. Kirche\, Burgstr. 1-3\, 90403 Nürnberg
STATUS:CONFIRMED
END:VEVENT
END:VCALENDAR