BEGIN:VCALENDAR
VERSION:2.0
PRODID:-//Doppelpunkt//Events//DE
CALSCALE:GREGORIAN
METHOD:PUBLISH
BEGIN:VEVENT
UID:event-2984@www.doppelpunkt.de
DTSTAMP:20260421T105425
DTSTART:20260109T193000
DTEND:20260109T193000
SUMMARY:"Weißes Kaninchen\, rotes Kaninchen"\, von Nassim Soleimanpour mit Autor Ewald Arenz
LOCATION:Kammerspiele\, Richard-Wagner-Platz 2-10\, 90443 Nürnberg
STATUS:CONFIRMED
END:VEVENT
END:VCALENDAR