BEGIN:VCALENDAR
VERSION:2.0
PRODID:-//Doppelpunkt//Events//DE
CALSCALE:GREGORIAN
METHOD:PUBLISH
BEGIN:VEVENT
UID:event-2983@www.doppelpunkt.de
DTSTAMP:20260419T165058
DTSTART:20251206T193000
DTEND:20251206T193000
SUMMARY:"Weißes Kaninchen\, rotes Kaninchen"\, von Nassim Soleimanpour mit Choreografin Susanna Curtis
LOCATION:Kammerspiele\, Richard-Wagner-Platz 2-10\, 90443 Nürnberg
STATUS:CONFIRMED
END:VEVENT
END:VCALENDAR