BEGIN:VCALENDAR
VERSION:2.0
PRODID:-//Doppelpunkt//Events//DE
CALSCALE:GREGORIAN
METHOD:PUBLISH
BEGIN:VEVENT
UID:event-2982@www.doppelpunkt.de
DTSTAMP:20260421T111501
DTSTART:20260201T190000
DTEND:20260201T190000
SUMMARY:Philharmonie Erlangen\, Katharina Treutler (Klavier)\, Frédéric Tschumi (Ltg.): Sinfoniekonzert mit Werken von Chatschaturjan\, Greshwin u. Sebelius
LOCATION:Heinrich-Lades-Halle\, Rathausplatz 2\, 91052 Erlangen
STATUS:CONFIRMED
END:VEVENT
END:VCALENDAR