BEGIN:VCALENDAR
VERSION:2.0
PRODID:-//Doppelpunkt//Events//DE
CALSCALE:GREGORIAN
METHOD:PUBLISH
BEGIN:VEVENT
UID:event-2981@www.doppelpunkt.de
DTSTAMP:20260425T135436
DTSTART:20260117T160000
DTEND:20260117T160000
SUMMARY:"Traumfabrik"\,  Varieté\, Tanz und Theater
LOCATION:Stadthalle Fürth\, Rosenstr. 50\, 90762 Fürth
STATUS:CONFIRMED
END:VEVENT
END:VCALENDAR