BEGIN:VCALENDAR
VERSION:2.0
PRODID:-//Doppelpunkt//Events//DE
CALSCALE:GREGORIAN
METHOD:PUBLISH
BEGIN:VEVENT
UID:event-2977@www.doppelpunkt.de
DTSTAMP:20260421T105520
DTSTART:20260207T190000
DTEND:20260207T190000
SUMMARY:"Bal moderne"\, Tanzabend mit Anleitung u. Freitanz
LOCATION:Buni Treff\, Bertolt-Brecht-Str. 6 RG\, 90471 Nürnberg
STATUS:CONFIRMED
END:VEVENT
END:VCALENDAR