BEGIN:VCALENDAR
VERSION:2.0
PRODID:-//Doppelpunkt//Events//DE
CALSCALE:GREGORIAN
METHOD:PUBLISH
BEGIN:VEVENT
UID:event-2976@www.doppelpunkt.de
DTSTAMP:20260425T141513
DTSTART:20260130T193000
DTEND:20260130T193000
SUMMARY:Neo Soulmates (Soul/Blues/Jazz)
LOCATION:Buni Treff\, Bertolt-Brecht-Str. 6 RG\, 90471 Nürnberg
STATUS:CONFIRMED
END:VEVENT
END:VCALENDAR