BEGIN:VCALENDAR
VERSION:2.0
PRODID:-//Doppelpunkt//Events//DE
CALSCALE:GREGORIAN
METHOD:PUBLISH
BEGIN:VEVENT
UID:event-2975@www.doppelpunkt.de
DTSTAMP:20260425T160343
DTSTART:20260123T193000
DTEND:20260123T193000
SUMMARY:Ray Raebel & Friends (Rock/Blues/Folk)
LOCATION:Buni Treff\, Bertolt-Brecht-Str. 6 RG\, 90471 Nürnberg
STATUS:CONFIRMED
END:VEVENT
END:VCALENDAR