BEGIN:VCALENDAR
VERSION:2.0
PRODID:-//Doppelpunkt//Events//DE
CALSCALE:GREGORIAN
METHOD:PUBLISH
BEGIN:VEVENT
UID:event-2973@www.doppelpunkt.de
DTSTAMP:20260421T102402
DTSTART:20260109T193000
DTEND:20260109T193000
SUMMARY:Welsner & Konsorten (Pop/Folk/Punk)
LOCATION:Buni Treff\, Bertolt-Brecht-Str. 6 RG\, 90471 Nürnberg
STATUS:CONFIRMED
END:VEVENT
END:VCALENDAR